BEGIN:VCALENDAR
VERSION:2.0
PRODID:-//Centro de Innovación, Emprendimiento y Negocios - ECPv6.15.18//NONSGML v1.0//EN
CALSCALE:GREGORIAN
METHOD:PUBLISH
X-ORIGINAL-URL:https://ciens.edu.co
X-WR-CALDESC:Eventos para Centro de Innovación, Emprendimiento y Negocios
REFRESH-INTERVAL;VALUE=DURATION:PT1H
X-Robots-Tag:noindex
X-PUBLISHED-TTL:PT1H
BEGIN:VTIMEZONE
TZID:America/Bogota
BEGIN:STANDARD
TZOFFSETFROM:-0500
TZOFFSETTO:-0500
TZNAME:-05
DTSTART:20230101T000000
END:STANDARD
END:VTIMEZONE
BEGIN:VEVENT
DTSTART;TZID=America/Bogota:20241013T230000
DTEND;TZID=America/Bogota:20241019T223000
DTSTAMP:20260419T195933
CREATED:20240501T041451Z
LAST-MODIFIED:20240501T041503Z
UID:631-1728860400-1729377000@ciens.edu.co
SUMMARY:SEMANA DE RECESO
DESCRIPTION:Receso de actividades académicas.
URL:https://ciens.edu.co/eventos/semana-de-receso/
ORGANIZER;CN="CIENs":MAILTO:info@ciens.edu.co
END:VEVENT
BEGIN:VEVENT
DTSTART;VALUE=DATE:20240705
DTEND;VALUE=DATE:20240707
DTSTAMP:20260419T195933
CREATED:20240501T041227Z
LAST-MODIFIED:20240501T041227Z
UID:629-1720206000-1720292399@ciens.edu.co
SUMMARY:INICIO II SEMESTRE ACADEMICO 2024
DESCRIPTION:Inicia el segundo semestre academico\,
URL:https://ciens.edu.co/eventos/inicio-ii-semestre-academico-2024/
LOCATION:CLL 5N #7AE-160 B. CEIBA II – OFICINA 207\, CLL 5N #7AE-160 B.CEIBA II\, CÚCUTA\, NORTE DE SANTANDER\, Colombia
ORGANIZER;CN="CIENs":MAILTO:info@ciens.edu.co
END:VEVENT
BEGIN:VEVENT
DTSTART;VALUE=DATE:20240628
DTEND;VALUE=DATE:20240630
DTSTAMP:20260419T195933
CREATED:20240501T040811Z
LAST-MODIFIED:20240501T040836Z
UID:627-1719601200-1719687599@ciens.edu.co
SUMMARY:HABILITACIONES PRIMER SEMESTRE ACADEMICO 2024
DESCRIPTION:El día 29 de junio se realizará las recuperaciones de las materias vistas en el primer semestre académico 2024. Las orientaciones serán enviadas por los docentes por la plataforma de Q10.
URL:https://ciens.edu.co/eventos/habilitaciones-primer-semestre-academico-2024/
LOCATION:CLL 5N #7AE-160 B. CEIBA II – OFICINA 207\, CLL 5N #7AE-160 B.CEIBA II\, CÚCUTA\, NORTE DE SANTANDER\, Colombia
ORGANIZER;CN="CIENs":MAILTO:info@ciens.edu.co
END:VEVENT
BEGIN:VEVENT
DTSTART;VALUE=DATE:20240621
DTEND;VALUE=DATE:20240623
DTSTAMP:20260419T195933
CREATED:20240501T040127Z
LAST-MODIFIED:20240501T040127Z
UID:624-1718996400-1719082799@ciens.edu.co
SUMMARY:CIERRE DE PRIMER SEMESTRE 2024
DESCRIPTION:
URL:https://ciens.edu.co/eventos/cierre-de-primer-semestre-2024/
LOCATION:CLL 5N #7AE-160 B. CEIBA II – OFICINA 207\, CLL 5N #7AE-160 B.CEIBA II\, CÚCUTA\, NORTE DE SANTANDER\, Colombia
ORGANIZER;CN="CIENs":MAILTO:info@ciens.edu.co
END:VEVENT
BEGIN:VEVENT
DTSTART;VALUE=DATE:20240524
DTEND;VALUE=DATE:20240526
DTSTAMP:20260419T195933
CREATED:20240426T215134Z
LAST-MODIFIED:20240501T040520Z
UID:600-1716577200-1716663599@ciens.edu.co
SUMMARY:SEMINARIO CORTE II
DESCRIPTION:Realización del seminario en las instalaciones del Colegio Ebenezer\, la temática será elegida por los estudiantes.
URL:https://ciens.edu.co/eventos/seminario-ii-corte/
LOCATION:COLEGIO EBENEZER\, Cl. 5 Nte. #7AE-160\, Los Pinos\, Cúcuta\, Norte de Santander\, Colombia\, CÚCUTA\, Colombia
CATEGORIES:SEMINARIOS
ATTACH;FMTTYPE=image/webp:https://ciens.edu.co/wp-content/uploads/2024/04/seminarios-desarrollo-continuo-distribuidora_2_2-scaled.webp
ORGANIZER;CN="CIENs":MAILTO:info@ciens.edu.co
END:VEVENT
END:VCALENDAR